BEGIN:VCALENDAR
VERSION:2.0
PRODID:-//CCO Willemsen - ECPv5.14.0.1//NONSGML v1.0//EN
CALSCALE:GREGORIAN
METHOD:PUBLISH
X-WR-CALNAME:CCO Willemsen
X-ORIGINAL-URL:https://www.ccowillemsen.nl
X-WR-CALDESC:Evenementen voor CCO Willemsen
BEGIN:VTIMEZONE
TZID:UTC
BEGIN:STANDARD
TZOFFSETFROM:+0000
TZOFFSETTO:+0000
TZNAME:UTC
DTSTART:20190101T000000
END:STANDARD
END:VTIMEZONE
BEGIN:VEVENT
DTSTART;TZID=UTC:20190219T190000
DTEND;TZID=UTC:20190219T213000
DTSTAMP:20260419T163647
CREATED:20190125T091110Z
LAST-MODIFIED:20190125T091110Z
UID:984-1550602800-1550611800@www.ccowillemsen.nl
SUMMARY:Workshop Omgaan met veranderingen
DESCRIPTION:Veranderingen ondergaan we elke dag\, dat is een feit\, hoe we daar mee om is een keuze.\nHoe ga jij om met een verandering? Ervaar je het als iets angstig of zie je het als een kans?\nVanuit een ervaringsgerichte werkvorm neem ik je mee in de verandercurve van Kübler-Ross.
URL:https://www.ccowillemsen.nl/event/workshop-omgaan-met-veranderingen/
LOCATION:Almere
END:VEVENT
END:VCALENDAR