BEGIN:VCALENDAR
VERSION:2.0
PRODID:-//CCO Willemsen - ECPv5.14.0.1//NONSGML v1.0//EN
CALSCALE:GREGORIAN
METHOD:PUBLISH
X-WR-CALNAME:CCO Willemsen
X-ORIGINAL-URL:https://www.ccowillemsen.nl
X-WR-CALDESC:Evenementen voor CCO Willemsen
BEGIN:VTIMEZONE
TZID:UTC
BEGIN:STANDARD
TZOFFSETFROM:+0000
TZOFFSETTO:+0000
TZNAME:UTC
DTSTART:20190101T000000
END:STANDARD
END:VTIMEZONE
BEGIN:VEVENT
DTSTART;VALUE=DATE:20191101
DTEND;VALUE=DATE:20191214
DTSTAMP:20260419T163939
CREATED:20190125T091643Z
LAST-MODIFIED:20190125T091643Z
UID:995-1572566400-1576281599@www.ccowillemsen.nl
SUMMARY:Ontwikkeltraject voor professionele teammanagers vanuit de praktijk
DESCRIPTION:Voor wie	Teammanagers die zich willen laten inspireren  \nDit ontwikkeltraject  is speciaal te noemen. Het gaat hierbij vooral om wat u van nature inzet\, wat uw persoonlijke drijfveer is  en  waardoor u geïnspireerd raakt. Dit ontwikkeltraject werkt  vanuit de praktijk  en gedeelde ervaring. Leren van en met elkaar is van groter belang dan individueel inzichten  verzamelen. Want een inzicht zonder handeling brengt geen verandering.
URL:https://www.ccowillemsen.nl/event/ontwikkeltraject-voor-professionele-teammanagers-vanuit-de-praktijk/
LOCATION:Places tot work Almere
END:VEVENT
END:VCALENDAR