BEGIN:VCALENDAR
VERSION:2.0
PRODID:-//CCO Willemsen - ECPv5.14.0.1//NONSGML v1.0//EN
CALSCALE:GREGORIAN
METHOD:PUBLISH
X-WR-CALNAME:CCO Willemsen
X-ORIGINAL-URL:https://www.ccowillemsen.nl
X-WR-CALDESC:Evenementen voor CCO Willemsen
BEGIN:VTIMEZONE
TZID:UTC
BEGIN:STANDARD
TZOFFSETFROM:+0000
TZOFFSETTO:+0000
TZNAME:UTC
DTSTART:20190101T000000
END:STANDARD
END:VTIMEZONE
BEGIN:VEVENT
DTSTART;TZID=UTC:20190607T090000
DTEND;TZID=UTC:20190607T170000
DTSTAMP:20260419T162226
CREATED:20190125T091432Z
LAST-MODIFIED:20190125T091432Z
UID:989-1559898000-1559926800@www.ccowillemsen.nl
SUMMARY:Dag van de coachmodellen
DESCRIPTION:Voor wie	Lerende en inspirerende coaches  \nTijdens deze inspirerende dag gaat u werken met allerlei coachmodellen die u kunt toepassen bij individuele coachtrajecten. U mag kennis delen\, kennis vergaren\, experimenten en netwerken.
URL:https://www.ccowillemsen.nl/event/dag-van-de-coachmodellen/
LOCATION:Places tot work Almere
END:VEVENT
END:VCALENDAR